BEGIN:VCALENDAR
VERSION:2.0
PRODID:-//Shankari School - ECPv6.15.20//NONSGML v1.0//EN
CALSCALE:GREGORIAN
METHOD:PUBLISH
X-WR-CALNAME:Shankari School
X-ORIGINAL-URL:https://shankari.edu.np
X-WR-CALDESC:Events for Shankari School
REFRESH-INTERVAL;VALUE=DURATION:PT1H
X-Robots-Tag:noindex
X-PUBLISHED-TTL:PT1H
BEGIN:VTIMEZONE
TZID:UTC
BEGIN:STANDARD
TZOFFSETFROM:+0000
TZOFFSETTO:+0000
TZNAME:UTC
DTSTART:20250101T000000
END:STANDARD
END:VTIMEZONE
BEGIN:VEVENT
DTSTART;VALUE=DATE:20260423
DTEND;VALUE=DATE:20260424
DTSTAMP:20260423T124706
CREATED:20260423T054606Z
LAST-MODIFIED:20260423T054607Z
UID:10000001-1776902400-1776988799@shankari.edu.np
SUMMARY:Parents Day 2026
DESCRIPTION:Small description about shankari’s annual parents day.
URL:https://shankari.edu.np/event/parents-day-2026/
END:VEVENT
BEGIN:VEVENT
DTSTART;TZID=UTC:20260425T100000
DTEND;TZID=UTC:20260425T150000
DTSTAMP:20260423T124706
CREATED:20260423T074404Z
LAST-MODIFIED:20260423T074659Z
UID:10000002-1777111200-1777129200@shankari.edu.np
SUMMARY:Annual Sports Day
DESCRIPTION:Short Description about Annual Sports Day
URL:https://shankari.edu.np/event/annual-sports-day/
END:VEVENT
END:VCALENDAR